BEGIN:VCALENDAR
VERSION:2.0
PRODID:-//ChamberMaster//Event Calendar 2.0//EN
METHOD:PUBLISH
X-PUBLISHED-TTL:P3D
REFRESH-INTERVAL:P3D
CALSCALE:GREGORIAN
BEGIN:VEVENT
DTSTART:20120525T003000Z
DTEND:20120525T013000Z
X-MICROSOFT-CDO-ALLDAYEVENT:FALSE
SUMMARY:Brain Heath Seminar
DESCRIPTION:A Simple and Natural Approach to Wellness And Prevention of: \n\n\n\nAlzheimer's               Huntington's\n\nDementia                   Learning Disabilities\n\nParkinson's              ADD / ADHD\n\nMultiple Sclerosis    Depression\n\nPost-Traumatic Stress\n\n\n\n Hosted By:\n\nThe Power Within\n\n\n\nGuest Speaker:\n\nMarisa Reyes\n\n\n\nWe are all faced with different health challenges at some point in our lives. Because nothing is more important than our health\, we would like to invite you to join us in learning about some of the latest advances in the science of Natural Health and Wellness.\n\n\n\nWe are sure you will enjoy the information\, and look forward to your visit.\n\nSeating is very limited   reserve your seat ASAP!
X-ALT-DESC;FMTTYPE=text/html:<span style="color: #008000"><strong><span style="font-size: 14px">A Simple and Natural Approach to Wellness And Prevention of:&nbsp\;</span></strong></span><br />\n<br />\n<strong>Alzheimer&#39\;s&nbsp\;&nbsp\;&nbsp\;&nbsp\;&nbsp\;&nbsp\;&nbsp\;&nbsp\;&nbsp\;&nbsp\;&nbsp\;&nbsp\;&nbsp\;&nbsp\; Huntington&#39\;s<br />\nDementia&nbsp\;&nbsp\;&nbsp\;&nbsp\;&nbsp\;&nbsp\;&nbsp\;&nbsp\;&nbsp\;&nbsp\;&nbsp\;&nbsp\;&nbsp\;&nbsp\;&nbsp\;&nbsp\;&nbsp\;&nbsp\; Learning Disabilities<br />\nParkinson&#39\;s&nbsp\;&nbsp\;&nbsp\;&nbsp\;&nbsp\;&nbsp\;&nbsp\;&nbsp\;&nbsp\;&nbsp\;&nbsp\;&nbsp\;&nbsp\; ADD / ADHD<br />\nMultiple Sclerosis&nbsp\;&nbsp\;&nbsp\; Depression<br />\nPost-Traumatic Stress</strong><br />\n<br />\n&nbsp\;<span style="color: #008000"><strong>Hosted By:</strong></span><br />\nThe Power Within<br />\n<br />\n<strong><span style="color: #008000">Guest Speaker:</span></strong><br />\nMarisa Reyes<br />\n<br />\nWe are all faced with different health challenges at some point in our lives. Because nothing is more important than our health\, we would like to invite you to join us in learning about some of the latest advances in the science of Natural Health and Wellness.<br />\n<br />\nWe are sure you will enjoy the information\, and look forward to your visit.<br />\nSeating is very limited &ndash\; reserve your seat ASAP!<br />\n<br />\n
LOCATION:7851 Sunnyside Road\, Mounds View\, MN 55112
UID:e.380.144707
SEQUENCE:3
DTSTAMP:20260425T192110Z
URL:http://members.metronorthchamber.org/events/details/brain-heath-seminar-05-24-2012-144707
END:VEVENT

END:VCALENDAR
