BEGIN:VCALENDAR
VERSION:2.0
PRODID:-//ChamberMaster//Event Calendar 2.0//EN
METHOD:PUBLISH
X-PUBLISHED-TTL:P3D
REFRESH-INTERVAL:P3D
CALSCALE:GREGORIAN
BEGIN:VEVENT
DTSTART:20170324T230000Z
DTEND:20170325T020000Z
X-MICROSOFT-CDO-ALLDAYEVENT:FALSE
SUMMARY:Boutique Event
DESCRIPTION:?Shopping ~Food ~ Community ~ Fun Vendor Boutique Event!!\n\nLuLaRoe ~ Tastefully Simple ~ Tupperware ~ Poetic Exchange ~ Limelight by Alcone ~\n\nLoving Cup Teas ~ beauty full day ~ $1/minute Massage\n\n?$1/donation raffle tickets for a chance at door prizes ~ all donations benefit Hope4Youth - Providing Pathways to End Youth Homelessness\n\nSponsored by Lisa Skordahl - First Signature Services
X-ALT-DESC;FMTTYPE=text/html:<span style="font-family:verdana">?Shopping ~Food ~ Community ~ Fun Vendor Boutique Event!!<br />\nLuLaRoe ~ Tastefully Simple ~ Tupperware ~ Poetic Exchange ~ Limelight by Alcone ~<br />\nLoving Cup Teas ~ beauty full day ~ $1/minute Massage<br />\n?$1/donation raffle tickets for a chance at door prizes ~ all donations benefit Hope4Youth&nbsp\;- Providing Pathways to End Youth Homelessness<br />\nSponsored by Lisa Skordahl - First Signature Services</span>
LOCATION:11526 Cottonwood Street NW\, Coon Rapids
UID:e.380.171976
SEQUENCE:3
DTSTAMP:20260421T184301Z
URL:http://members.metronorthchamber.org/events/details/boutique-event-171976
END:VEVENT

END:VCALENDAR
