BEGIN:VCALENDAR
VERSION:2.0
PRODID:-//ChamberMaster//Event Calendar 2.0//EN
METHOD:PUBLISH
X-PUBLISHED-TTL:P3D
REFRESH-INTERVAL:P3D
CALSCALE:GREGORIAN
BEGIN:VEVENT
DTSTART:20181016T214500Z
DTEND:20181016T234500Z
X-MICROSOFT-CDO-ALLDAYEVENT:FALSE
SUMMARY:Boos & Brews II
DESCRIPTION:Back by popular demand! Networking\, drinks\, and ghost tours are a very popular combination. We'll start at Lyric Arts at 4:44 pm for a social hour (one drink ticket included). At 5:25 pm we'll go on a 25-minute walking Boos Tour with NEW ghost stories. We'll finish our walk at the Anoka County Historical Society for a taco bar\, scavenger hunt and socializing. An optional post-party at Casa Rio will also be offered!\n\n\n\nThank you event sponsor Kari Hefnider - American Family Insurance.
X-ALT-DESC;FMTTYPE=text/html:<span style="font-family:arial\,sans-serif\;"><span style="font-size:10.0pt\;">Back by popular demand! Networking\, drinks\, and ghost tours are a very popular combination. We&rsquo\;ll start at Lyric Arts at 4:44 pm for a social hour (one drink ticket included). At 5:25 pm we&rsquo\;ll go on a 25-minute walking Boos Tour with NEW ghost stories. We&rsquo\;ll finish our walk at the Anoka County Historical Society for a taco bar\, scavenger hunt and socializing. An optional post-party at Casa Rio will also be offered!<br />\n<br />\n<em>Thank you event sponsor Kari Hefnider -&nbsp\;American Family Insurance</em>.</span></span><br />\n&nbsp\;
LOCATION:Lyric Arts - 420 East Main Street\, Anoka Anoka County Historical Society - 2135 Third Avenue N\, Anoka
UID:e.380.179590
SEQUENCE:3
DTSTAMP:20260420T152242Z
URL:http://members.metronorthchamber.org/events/details/boos-brews-ii-179590
END:VEVENT

END:VCALENDAR
