BEGIN:VCALENDAR
VERSION:2.0
PRODID:-//ChamberMaster//Event Calendar 2.0//EN
METHOD:PUBLISH
X-PUBLISHED-TTL:P3D
REFRESH-INTERVAL:P3D
CALSCALE:GREGORIAN
BEGIN:VEVENT
DTSTART:20171010T214500Z
DTEND:20171010T234500Z
X-MICROSOFT-CDO-ALLDAYEVENT:FALSE
SUMMARY:Boos & Brews
DESCRIPTION:The Wine Committee has put together a 3-part event to celebrate the fall season! Begin at Lyric Arts at 4:44 pm for a social hour (one drink ticket included). About 5:25 pm will go on a 25 minute walking Boos Tour. End at the Anoka County Historical Society where there will be a taco bar and time to mingle and explore. The post ghost party continues at Casa Rio Tex Mex.\n\n\n\nA huge thank you to our event sponsor Kari Hefnider\, American Family Insurance!\n\n\n\n*In the event of inclement weather\, we will not have a walking tour\, but Anoka County Historical Society will be at Lyric Arts where they will tell their tales. The taco bar will also take place at Lyric Arts.
X-ALT-DESC;FMTTYPE=text/html:The Wine Committee has put together a 3-part event to celebrate the fall season! Begin at Lyric Arts at 4:44 pm for a social hour (one drink ticket included). About 5:25 pm will go on a 25 minute walking Boos Tour. End at the Anoka County Historical Society where there will be a taco bar and time to mingle and explore. The post ghost party continues at Casa Rio Tex Mex.<br />\n<br />\nA huge thank you to our event sponsor Kari Hefnider\,&nbsp\;American Family Insurance!<br />\n<br />\n*In the event of inclement weather\, we will not have a walking tour\, but Anoka County Historical Society will be at Lyric Arts where they will tell their tales. The taco bar will also take place at Lyric Arts.<br />\n&nbsp\;
LOCATION:Lyric Arts - 420 East Main Street\, Anoka Anoka County Historical Society - 2135 Third Avenue N\, Anoka Casa Rio - 201 Jackson Street\, Anoka
UID:e.380.176436
SEQUENCE:3
DTSTAMP:20260421T082101Z
URL:http://members.metronorthchamber.org/events/details/boos-brews-176436
END:VEVENT

END:VCALENDAR
