BEGIN:VCALENDAR
VERSION:2.0
PRODID:-//ChamberMaster//Event Calendar 2.0//EN
METHOD:PUBLISH
X-PUBLISHED-TTL:P3D
REFRESH-INTERVAL:P3D
CALSCALE:GREGORIAN
BEGIN:VEVENT
DTSTART:20150101T190000Z
DTEND:20150101T210000Z
X-MICROSOFT-CDO-ALLDAYEVENT:FALSE
SUMMARY:Book Signing ~ The Puck Stops Here
DESCRIPTION:
X-ALT-DESC;FMTTYPE=text/html:
LOCATION:The Schwan's Super Rink 1850 105th Ave NE Blaine\, MN 55449
UID:e.380.152528
SEQUENCE:3
DTSTAMP:20260423T161115Z
URL:http://members.metronorthchamber.org/events/details/book-signing-the-puck-stops-here-01-01-2015-152528
END:VEVENT

END:VCALENDAR
