BEGIN:VCALENDAR
VERSION:2.0
PRODID:-//ChamberMaster//Event Calendar 2.0//EN
METHOD:PUBLISH
X-PUBLISHED-TTL:P3D
REFRESH-INTERVAL:P3D
CALSCALE:GREGORIAN
BEGIN:VEVENT
DTSTART:20160825T140000Z
DTEND:20160906T020000Z
X-MICROSOFT-CDO-ALLDAYEVENT:FALSE
SUMMARY:BOB FM AT THE STATE FAIR!!!
DESCRIPTION:Join Minnesota's Total Country BOB FM every day at the Great Minnesota Get Together. Located right across the street from the Coliseum on Judson Ave\, we are broadcasting all the best country music all day long and also have live music on our stage every day!
X-ALT-DESC;FMTTYPE=text/html:Join Minnesota&#39\;s Total Country BOB FM every day at the Great Minnesota Get Together. Located right across the street from the Coliseum on Judson Ave\, we are broadcasting all the best country music all day long and also have live music on our stage every day!&nbsp\;
LOCATION:North side of Judson Ave. between Liggett & Clough streets
UID:e.380.169155
SEQUENCE:3
DTSTAMP:20260422T052216Z
URL:http://members.metronorthchamber.org/events/details/bob-fm-at-the-state-fair-08-25-2016-169155
END:VEVENT

END:VCALENDAR
