BEGIN:VCALENDAR
VERSION:2.0
PRODID:-//ChamberMaster//Event Calendar 2.0//EN
METHOD:PUBLISH
X-PUBLISHED-TTL:P3D
REFRESH-INTERVAL:P3D
CALSCALE:GREGORIAN
BEGIN:VEVENT
DTSTART:20160211T173000Z
DTEND:20160211T183000Z
X-MICROSOFT-CDO-ALLDAYEVENT:FALSE
SUMMARY:Board Meeting-Workforce Development Foundation
DESCRIPTION:Workforce Development Foundation Board of Directors quarterly meeting.
X-ALT-DESC;FMTTYPE=text/html:Workforce Development Foundation Board of Directors quarterly meeting.
LOCATION:MetroNorth Chamber of Commerce
UID:e.380.163104
SEQUENCE:3
DTSTAMP:20260422T174804Z
URL:http://members.metronorthchamber.org/events/details/board-meeting-workforce-development-foundation-02-11-2016-163104
END:VEVENT

END:VCALENDAR
