BEGIN:VCALENDAR
VERSION:2.0
PRODID:-//ChamberMaster//Event Calendar 2.0//EN
METHOD:PUBLISH
X-PUBLISHED-TTL:P3D
REFRESH-INTERVAL:P3D
CALSCALE:GREGORIAN
BEGIN:VEVENT
DTSTART:20141113T153000Z
DTEND:20141113T163000Z
X-MICROSOFT-CDO-ALLDAYEVENT:FALSE
SUMMARY:Board Meeting
DESCRIPTION:
X-ALT-DESC;FMTTYPE=text/html:
LOCATION:Grand Casino Hinckley
UID:e.380.141994
SEQUENCE:3
DTSTAMP:20260423T173613Z
URL:http://members.metronorthchamber.org/events/details/board-meeting-11-13-2014-141994
END:VEVENT

END:VCALENDAR
