BEGIN:VCALENDAR
VERSION:2.0
PRODID:-//ChamberMaster//Event Calendar 2.0//EN
METHOD:PUBLISH
X-PUBLISHED-TTL:P3D
REFRESH-INTERVAL:P3D
CALSCALE:GREGORIAN
BEGIN:VEVENT
DTSTART:20170614T123000Z
DTEND:20170614T140000Z
X-MICROSOFT-CDO-ALLDAYEVENT:FALSE
SUMMARY:Board Meeting
DESCRIPTION:
X-ALT-DESC;FMTTYPE=text/html:
LOCATION:Chamber Office
UID:e.380.142025
SEQUENCE:3
DTSTAMP:20260421T135054Z
URL:http://members.metronorthchamber.org/events/details/board-meeting-06-14-2017-142025
END:VEVENT

END:VCALENDAR
