BEGIN:VCALENDAR
VERSION:2.0
PRODID:-//ChamberMaster//Event Calendar 2.0//EN
METHOD:PUBLISH
X-PUBLISHED-TTL:P3D
REFRESH-INTERVAL:P3D
CALSCALE:GREGORIAN
BEGIN:VEVENT
DTSTART:20200311T123000Z
DTEND:20200311T140000Z
X-MICROSOFT-CDO-ALLDAYEVENT:FALSE
SUMMARY:Board Meeting
DESCRIPTION:
X-ALT-DESC;FMTTYPE=text/html:
LOCATION:Chamber Office
UID:e.380.142058
SEQUENCE:3
DTSTAMP:20260419T124855Z
URL:http://members.metronorthchamber.org/events/details/board-meeting-03-11-2020-142058
END:VEVENT

END:VCALENDAR
