BEGIN:VCALENDAR
VERSION:2.0
PRODID:-//ChamberMaster//Event Calendar 2.0//EN
METHOD:PUBLISH
X-PUBLISHED-TTL:P3D
REFRESH-INTERVAL:P3D
CALSCALE:GREGORIAN
BEGIN:VEVENT
DTSTART:20130828T220000Z
DTEND:20130828T230000Z
X-MICROSOFT-CDO-ALLDAYEVENT:FALSE
SUMMARY:Board Applications Due
DESCRIPTION:Board Applications Due by Today! See the homepage for an application and more information.
X-ALT-DESC;FMTTYPE=text/html:Board Applications Due by Today! See the homepage for an application and more information. 
LOCATION:
UID:e.380.149483
SEQUENCE:3
DTSTAMP:20260424T192436Z
URL:http://members.metronorthchamber.org/events/details/board-applications-due-08-28-2013-149483
END:VEVENT

END:VCALENDAR
