BEGIN:VCALENDAR
VERSION:2.0
PRODID:-//ChamberMaster//Event Calendar 2.0//EN
METHOD:PUBLISH
X-PUBLISHED-TTL:P3D
REFRESH-INTERVAL:P3D
CALSCALE:GREGORIAN
BEGIN:VEVENT
DTSTART:20160119T220000Z
DTEND:20160119T230000Z
X-MICROSOFT-CDO-ALLDAYEVENT:FALSE
SUMMARY:BMO Harris Bank Borrowing Basics: Building Knowledge\, Security\, Confidence
DESCRIPTION:Join BMO Harris Bank for a complimentary seminar to help you better understand your credit.
X-ALT-DESC;FMTTYPE=text/html:<span style="font-size:10pt"><span style="color:#333333"><span style="font-family:arial\,sans-serif">Join BMO Harris Bank for a complimentary seminar to help you better understand your credit.</span></span></span>
LOCATION:BMO Harris Bank 1520 109th Ave. NE Blaine\, MN 55449
UID:e.380.161928
SEQUENCE:3
DTSTAMP:20260422T191727Z
URL:http://members.metronorthchamber.org/events/details/bmo-harris-bank-borrowing-basics-building-knowledge-security-confidence-01-19-2016-161928
END:VEVENT

END:VCALENDAR
