BEGIN:VCALENDAR
VERSION:2.0
PRODID:-//ChamberMaster//Event Calendar 2.0//EN
METHOD:PUBLISH
X-PUBLISHED-TTL:P3D
REFRESH-INTERVAL:P3D
CALSCALE:GREGORIAN
BEGIN:VEVENT
DTSTART:20160209T190000Z
DTEND:20160210T010000Z
X-MICROSOFT-CDO-ALLDAYEVENT:FALSE
SUMMARY:Blood Drive at Ham Lake Anytime Fitness!
DESCRIPTION:We are having a Blood Drive at the Ham Lake Anytime Fitness location on Tuesday\, February 9th  from 1pm-7pm. \n\n\n\nPeople can visit www.redcrossblood.org to register for the time slot they are available and the sponsor code to use is: Anytime Fitness Ham Lake.
X-ALT-DESC;FMTTYPE=text/html:We are having a Blood Drive at the Ham Lake Anytime Fitness location on Tuesday\, February 9th &nbsp\;from 1pm-7pm.&nbsp\;<br />\n<br />\nPeople can visit <u><a href="http://www.redcrossblood.org/" target="_blank"><span style="color:#0000FF\;">www.redcrossblood.org</span></a></u> to register for the time slot they are available and the sponsor code to use is: Anytime Fitness Ham Lake.
LOCATION:Ham Lake Anytime Fitness 1321 Andover Blvd NE Ham Lake\, MN 55304
UID:e.380.163105
SEQUENCE:3
DTSTAMP:20260422T192626Z
URL:http://members.metronorthchamber.org/events/details/blood-drive-at-ham-lake-anytime-fitness-02-09-2016-163105
END:VEVENT

END:VCALENDAR
