BEGIN:VCALENDAR
VERSION:2.0
PRODID:-//ChamberMaster//Event Calendar 2.0//EN
METHOD:PUBLISH
X-PUBLISHED-TTL:P3D
REFRESH-INTERVAL:P3D
CALSCALE:GREGORIAN
BEGIN:VEVENT
DTSTART:20180515T150000Z
DTEND:20180515T210000Z
X-MICROSOFT-CDO-ALLDAYEVENT:FALSE
SUMMARY:Blood Drive
DESCRIPTION:Did you know that when you give blood\, you're saving up to three lives? Join us for our Blood Drive next Tuesday\, May 15th! Walk-ins are welcome but appointments are encouraged. Schedule your donation at http://ow.ly/PnqE50hb3WD.
X-ALT-DESC;FMTTYPE=text/html:<span class="ember-view" id="ember9296" style="box-sizing: inherit\; margin: 0px\; padding: 0px\; border: 0px\; outline: 0px\; font-size: 14px\; vertical-align: baseline\; background: 0px 0px rgb(255\, 255\, 255)\; color: rgba(0\, 0\, 0\, 0.75)\; font-family: -apple-system\, system-ui\, BlinkMacSystemFont\, &quot\;Segoe UI&quot\;\, Roboto\, &quot\;Helvetica Neue&quot\;\, &quot\;Fira Sans&quot\;\, Ubuntu\, Oxygen\, &quot\;Oxygen Sans&quot\;\, Cantarell\, &quot\;Droid Sans&quot\;\, &quot\;Lucida Grande&quot\;\, Helvetica\, Arial\, sans-serif\, &quot\;Apple Color Emoji&quot\;\, &quot\;Segoe UI Emoji&quot\;\, &quot\;Segoe UI Emoji&quot\;\, &quot\;Segoe UI Symbol&quot\;\; white-space: pre-wrap\;"><span style="box-sizing: inherit\; margin: 0px\; padding: 0px\; border: 0px\; outline: 0px\; vertical-align: baseline\; background: 0px 0px\;">Did you know that when you give blood\, you&#39\;re saving up to three lives? Join us for our Blood Drive next Tuesday\, May 15th! Walk-ins are welcome but appointments are encouraged. Schedule your donation at </span></span><a class="feed-link ember-view" href="http://ow.ly/PnqE50hb3WD" id="ember9299" style="box-sizing: inherit\; padding: 0px\; text-decoration-line: none\; margin: 0px\; font-size: 14px\; vertical-align: baseline\; background: 0px 0px rgb(255\, 255\, 255)\; font-weight: 700\; border: 0px\; color: rgb(102\, 94\, 208)\; touch-action: manipulation\; font-family: -apple-system\, system-ui\, BlinkMacSystemFont\, &quot\;Segoe UI&quot\;\, Roboto\, &quot\;Helvetica Neue&quot\;\, &quot\;Fira Sans&quot\;\, Ubuntu\, Oxygen\, &quot\;Oxygen Sans&quot\;\, Cantarell\, &quot\;Droid Sans&quot\;\, &quot\;Lucida Grande&quot\;\, Helvetica\, Arial\, sans-serif\, &quot\;Apple Color Emoji&quot\;\, &quot\;Segoe UI Emoji&quot\;\, &quot\;Segoe UI Emoji&quot\;\, &quot\;Segoe UI Symbol&quot\;\; white-space: pre-wrap\;" target="_blank">http://ow.ly/PnqE50hb3WD</a><span class="ember-view" id="ember9301" style="box-sizing: inherit\; margin: 0px\; padding: 0px\; border: 0px\; outline: 0px\; font-size: 14px\; vertical-align: baseline\; background: 0px 0px rgb(255\, 255\, 255)\; color: rgba(0\, 0\, 0\, 0.75)\; font-family: -apple-system\, system-ui\, BlinkMacSystemFont\, &quot\;Segoe UI&quot\;\, Roboto\, &quot\;Helvetica Neue&quot\;\, &quot\;Fira Sans&quot\;\, Ubuntu\, Oxygen\, &quot\;Oxygen Sans&quot\;\, Cantarell\, &quot\;Droid Sans&quot\;\, &quot\;Lucida Grande&quot\;\, Helvetica\, Arial\, sans-serif\, &quot\;Apple Color Emoji&quot\;\, &quot\;Segoe UI Emoji&quot\;\, &quot\;Segoe UI Emoji&quot\;\, &quot\;Segoe UI Symbol&quot\;\; white-space: pre-wrap\;"><span style="box-sizing: inherit\; margin: 0px\; padding: 0px\; border: 0px\; outline: 0px\; vertical-align: baseline\; background: 0px 0px\;">.</span></span>
LOCATION:The Bank of Elk River 630 Main St NW Elk River\, MN 55330
UID:e.380.184858
SEQUENCE:3
DTSTAMP:20260420T212621Z
URL:http://members.metronorthchamber.org/events/details/blood-drive-184858
END:VEVENT

END:VCALENDAR
