BEGIN:VCALENDAR
VERSION:2.0
PRODID:-//ChamberMaster//Event Calendar 2.0//EN
METHOD:PUBLISH
X-PUBLISHED-TTL:P3D
REFRESH-INTERVAL:P3D
CALSCALE:GREGORIAN
BEGIN:VEVENT
DTSTART:20180519T180000Z
DTEND:20180519T210000Z
X-MICROSOFT-CDO-ALLDAYEVENT:FALSE
SUMMARY:Blaine World Fest
DESCRIPTION:Saturday\, May 19\, 2018\nJoin the City of Blaine and residents from across the North Metro for the Blaine World Fest celebration. This event is a great opportunity for the City to recognize and share its growing cultural and ethnic diversity. Bring the entire family and learn about different cultures through a variety of entertainment and festivities. Experience a wide array of music\, dance\, cultural learning booths\, demonstrations\, and delicious ethnic foods. Blaine World Fest has continued to grow with more than 2000 people enjoying this exciting and festive cultural celebration last year\, and this year's event promises to be even bigger and better. Be sure to bring a lawn chair!
X-ALT-DESC;FMTTYPE=text/html:<h3 id="ctl00_ctl00_MainContent_ModuleContent_ctl00_ctl03_eventDate" style="box-sizing: content-box\; margin: 0px\; padding: 0px\; border: 0px\; outline: 0px\; font-size: 1em\; font-family: &quot\;Open Sans&quot\;\; vertical-align: baseline\; color: rgb(0\, 44\, 97)\; background-color: rgb(255\, 255\, 255)\;">Saturday\, May 19\, 2018</h3>\n<span style="color: rgb(51\, 51\, 51)\; font-family: &quot\;Open Sans&quot\;\; font-size: 14.4px\; background-color: rgb(255\, 255\, 255)\;">Join the City of Blaine and residents from across the North Metro for the Blaine World Fest celebration. This event is a great opportunity for the City to recognize and share its growing cultural and ethnic diversity. Bring the entire family and learn about different cultures through a variety of entertainment and festivities. Experience a wide array of music\, dance\, cultural learning booths\, demonstrations\, and delicious ethnic foods. Blaine World Fest has continued to grow with more than 2000 people enjoying this exciting and festive cultural celebration last year\, and this year&#39\;s event promises to be even bigger and better. Be sure to bring a lawn chair!</span>
LOCATION:Date: May 19\, 2018 Time: 1:00 PM - 4:00 PM Location: View Facility Town Square Park Address: 10802 TOWN SQUARE DR NE Blaine\, MN 55449 Contact: 763-717-2723
UID:e.380.184877
SEQUENCE:3
DTSTAMP:20260420T212749Z
URL:http://members.metronorthchamber.org/events/details/blaine-world-fest-184877
END:VEVENT

END:VCALENDAR
