BEGIN:VCALENDAR
VERSION:2.0
PRODID:-//ChamberMaster//Event Calendar 2.0//EN
METHOD:PUBLISH
X-PUBLISHED-TTL:P3D
REFRESH-INTERVAL:P3D
CALSCALE:GREGORIAN
BEGIN:VEVENT
DTSTART:20111104T123000Z
DTEND:20111104T140000Z
X-MICROSOFT-CDO-ALLDAYEVENT:FALSE
SUMMARY:Blaine Sunrise
DESCRIPTION:Bring your business cards & your 60-second commerical. It's a great opportunity to network and build professional relationships over a hot breakfast.
X-ALT-DESC;FMTTYPE=text/html:<div>Bring your business cards &amp\;&nbsp\;your 60-second commerical. It's a great opportunity to network and build professional relationships over a hot breakfast.</div>
LOCATION:Perkins Restaurant 242 & Hwy 65 Blaine\, 55449
UID:e.380.141690
SEQUENCE:3
DTSTAMP:20260426T033109Z
URL:http://members.metronorthchamber.org/events/details/blaine-sunrise-11-04-2011-141690
END:VEVENT

END:VCALENDAR
