BEGIN:VCALENDAR
VERSION:2.0
PRODID:-//ChamberMaster//Event Calendar 2.0//EN
METHOD:PUBLISH
X-PUBLISHED-TTL:P3D
REFRESH-INTERVAL:P3D
CALSCALE:GREGORIAN
BEGIN:VEVENT
DTSTART:20141016T220000Z
DTEND:20141016T230000Z
X-MICROSOFT-CDO-ALLDAYEVENT:FALSE
SUMMARY:Blaine Police Demonstration
DESCRIPTION:The Blaine Police Department will do a demonstration of their 40 ft. RV Incident Command Vehicle.
X-ALT-DESC;FMTTYPE=text/html:The Blaine Police Department will do a demonstration of their 40 ft. RV Incident Command Vehicle.
LOCATION:Rasmussen College Blaine Campus
UID:e.380.151684
SEQUENCE:3
DTSTAMP:20260423T192947Z
URL:http://members.metronorthchamber.org/events/details/blaine-police-demonstration-10-16-2014-151684
END:VEVENT

END:VCALENDAR
