BEGIN:VCALENDAR
VERSION:2.0
PRODID:-//ChamberMaster//Event Calendar 2.0//EN
METHOD:PUBLISH
X-PUBLISHED-TTL:P3D
REFRESH-INTERVAL:P3D
CALSCALE:GREGORIAN
BEGIN:VEVENT
DTSTART:20191004T180000Z
DTEND:20191005T000000Z
X-MICROSOFT-CDO-ALLDAYEVENT:FALSE
SUMMARY:Blaine Lock and Safe Open House
DESCRIPTION:We will have food and drawings for door prizes. \n\n \n\nCome check out the new Location and see what we have to offer. \n\n \n\nSome Factory reps will be available to answer any of your questions.
X-ALT-DESC;FMTTYPE=text/html:We will have food and drawings for door prizes.&nbsp\;<br />\n&nbsp\;<br />\nCome check out the new Location and see what we have to offer.&nbsp\;<br />\n&nbsp\;<br />\nSome Factory reps will be available to answer any of your questions.
LOCATION:10136 Sunset Ave.\, Blaine 55014
UID:e.380.191406
SEQUENCE:3
DTSTAMP:20260419T193231Z
URL:http://members.metronorthchamber.org/events/details/blaine-lock-and-safe-open-house-191406
END:VEVENT

END:VCALENDAR
