BEGIN:VCALENDAR
VERSION:2.0
PRODID:-//ChamberMaster//Event Calendar 2.0//EN
METHOD:PUBLISH
X-PUBLISHED-TTL:P3D
REFRESH-INTERVAL:P3D
CALSCALE:GREGORIAN
BEGIN:VEVENT
DTSTART;VALUE=DATE:20130628
DTEND;VALUE=DATE:20130701
TRANSP:TRANSPARENT
X-MICROSOFT-CDO-ALLDAYEVENT:TRUE
SUMMARY:Blaine Festival
DESCRIPTION:Be part of history as the Blaine Festival celebrates 43 years of fun.\n\n	The weekend festivities will again be held at beautiful Aquatore Park\n\n	June 28 - 30\n\n	\n\n	\n\n	Schedule of Events\n\n	\n\n	Carnival & Live Bands | all weekend including:\n\n	Austin Healy | Friday\, 7 p.m.\n\n	GB Leighton | Saturday\, 7:30 p.m.\n\n	Jonah & the Whales | Sunday\, 11:30 a.m.\n\n	\n\n	Parade | Saturday\, noon\n\n	\n\n	Craft Show and Vendor Fair | all weekend\n\n	\n\n	Car Show | Sunday\n\n	\n\n	Face Painting | Sunday\, 11 a.m.   4 p.m.\n\n	\n\n	Softball Tournament | Saturday & Sunday\n\n	\n\n	8K Lakes Run/4K Walk | Sunday\, June 30th - 8:30 a.m.\n\n	\n\n	Fireworks Extravaganza  | Thursday\, July 4\, 10 p.m. (Dusk)   National Sports Center\n\n	\n\n	Medallion Hunt\n\n	\n\n	\n\n	Visit www.blainefestival.org for more information.
X-ALT-DESC;FMTTYPE=text/html:<div style="text-align: center\;">\n	<br />\n	<span style="color:#000000\;"><span style="font-size: 11px\;"><span style="font-family: arial\;"><span style="font-size: 14px\;"><strong>Be part of history as the Blaine Festival celebrates 43 years of fun.<br />\n	The weekend festivities will again be held at beautiful Aquatore Park<br />\n	June 28 - 30</strong></span><br />\n	<br />\n	<br />\n	<span style="font-size: 12px\;"><u><strong>Schedule of Events</strong></u></span><br />\n	<br />\n	Carnival &amp\; Live Bands | all weekend including:<br />\n	Austin Healy | Friday\, 7 p.m.<br />\n	GB Leighton | Saturday\, 7:30 p.m.<br />\n	Jonah &amp\; the Whales | Sunday\, 11:30 a.m.<br />\n	<br />\n	Parade | Saturday\, noon<br />\n	<br />\n	Craft Show and Vendor Fair | all weekend<br />\n	<br />\n	Car Show | Sunday<br />\n	<br />\n	Face Painting | Sunday\, 11 a.m. &ndash\; 4 p.m.<br />\n	<br />\n	Softball Tournament | Saturday &amp\; Sunday<br />\n	<br />\n	8K Lakes Run/4K Walk | Sunday\, June 30th - 8:30 a.m.<br />\n	<br />\n	Fireworks Extravaganza&nbsp\; | Thursday\, July 4\, 10 p.m. (Dusk) &ndash\; National Sports Center<br />\n	<br />\n	Medallion Hunt<br />\n	<br />\n	<br />\n	<em>Visit <u><a href="http://www.blainefestival.org/">www.blainefestival.org</a></u> for more information.</em></span></span></span></div>\n
LOCATION:Festival: Aquatore Park 9191 Lincoln St NE\, Blaine 4th of July Fireworks Extravaganza: National Sports Center 1700 105th Ave. NE\, Blaine
UID:e.380.148915
SEQUENCE:3
DTSTAMP:20260424T210958Z
URL:http://members.metronorthchamber.org/events/details/blaine-festival-06-28-2013-148915
END:VEVENT

END:VCALENDAR
