BEGIN:VCALENDAR
VERSION:2.0
PRODID:-//ChamberMaster//Event Calendar 2.0//EN
METHOD:PUBLISH
X-PUBLISHED-TTL:P3D
REFRESH-INTERVAL:P3D
CALSCALE:GREGORIAN
BEGIN:VEVENT
DTSTART;VALUE=DATE:20140627
DTEND;VALUE=DATE:20140630
TRANSP:TRANSPARENT
X-MICROSOFT-CDO-ALLDAYEVENT:TRUE
SUMMARY:Blaine Festival
DESCRIPTION:The Blaine Festival features great bands: Johnny Holm (Friday 7:30 p.m.-11:30 p.m.)\; Tombstone Trio (Saturday 11:30 a.m.-2:30 p.m.)\; Cloud 10 (Saturday 3:30 p.m.-6:30 p.m.)\; GB Leighton (Saturday 7:30 p.m.-11:30 p.m.)\; Maiden Dixie (Sunday\, Noon-4:00 p.m.)\; food concessions & beer garden\; business & crafter fair\; petting zoo & kids games\; carnival and magic shows\; Car Show & swap meet (Sunday)\; plus much more. Join us for the fun!! New this year: half hour performances & demonstrations from local groups.  Check out the details on the Blaine Festival website at www.blainefestival.org.
X-ALT-DESC;FMTTYPE=text/html:<br />\nThe Blaine Festival features great bands: Johnny Holm (Friday 7:30 p.m.-11:30 p.m.)\; Tombstone Trio (Saturday 11:30 a.m.-2:30 p.m.)\; Cloud 10 (Saturday 3:30 p.m.-6:30 p.m.)\; GB Leighton (Saturday 7:30 p.m.-11:30 p.m.)\; Maiden Dixie (Sunday\, Noon-4:00 p.m.)\; food concessions &amp\; beer garden\; business &amp\; crafter fair\; petting zoo &amp\; kids games\; carnival and magic shows\; Car Show &amp\; swap meet (Sunday)\; plus much more. Join us for the fun!! New this year: half hour performances &amp\; demonstrations from local groups.&nbsp\; Check out the details on the Blaine Festival website at <u><a href="http://www.blainefestival.org"><span style="color:#0000FF\;">www.blainefestival.org</span></a></u>.<br />\n&nbsp\;
LOCATION:Aquatore Park (NW corner of Hwys. 65 & 10\, Blaine\, MN)
UID:e.380.150700
SEQUENCE:3
DTSTAMP:20260424T012758Z
URL:http://members.metronorthchamber.org/events/details/blaine-festival-06-27-2014-150700
END:VEVENT

END:VCALENDAR
