BEGIN:VCALENDAR
VERSION:2.0
PRODID:-//ChamberMaster//Event Calendar 2.0//EN
METHOD:PUBLISH
X-PUBLISHED-TTL:P3D
REFRESH-INTERVAL:P3D
CALSCALE:GREGORIAN
BEGIN:VEVENT
DTSTART:20150626T220000Z
DTEND:20150628T220000Z
X-MICROSOFT-CDO-ALLDAYEVENT:FALSE
SUMMARY:Blaine Festival
DESCRIPTION:Family-friendly\, community-oriented city festival offering events for all ages.\n\nPetting zoo\, carnival\, free live music\, beer garden\, food concessions\, crafter/business vendor fair\, RAD zoo\, Raptor Center bald eagle program\, bingo\, car show\, bag tournament\, karaoke contest\, ugly dog contest plus much\, much more!
X-ALT-DESC;FMTTYPE=text/html:Family-friendly\, community-oriented city festival offering events for all ages.<br />\nPetting zoo\, carnival\, free live music\, beer garden\, food concessions\, crafter/business vendor fair\, RAD zoo\, Raptor Center bald eagle program\, bingo\, car show\, bag tournament\, karaoke contest\, ugly dog contest plus much\, much more!
LOCATION:Aquatore Park\, corner of Hwys. 10 & 65\, Blaine\, MN
UID:e.380.157301
SEQUENCE:3
DTSTAMP:20260423T084330Z
URL:http://members.metronorthchamber.org/events/details/blaine-festival-06-26-2015-157301
END:VEVENT

END:VCALENDAR
