BEGIN:VCALENDAR
VERSION:2.0
PRODID:-//ChamberMaster//Event Calendar 2.0//EN
METHOD:PUBLISH
X-PUBLISHED-TTL:P3D
REFRESH-INTERVAL:P3D
CALSCALE:GREGORIAN
BEGIN:VEVENT
DTSTART:20180622T220000Z
DTEND:20180624T230000Z
X-MICROSOFT-CDO-ALLDAYEVENT:FALSE
SUMMARY:Blaine Festival
DESCRIPTION:Weekend long celebration of community with live music all weekend long.  Fun for the entire family!
X-ALT-DESC;FMTTYPE=text/html:Weekend long celebration of community with live music all weekend long.&nbsp\; Fun for the entire family!
LOCATION:Aquatore Park - Corner of Hwys. 65 & 10\, Blaine\, MN
UID:e.380.179195
SEQUENCE:3
DTSTAMP:20260420T201005Z
URL:http://members.metronorthchamber.org/events/details/blaine-festival-06-22-2018-179195
END:VEVENT

END:VCALENDAR
