BEGIN:VCALENDAR
VERSION:2.0
PRODID:-//ChamberMaster//Event Calendar 2.0//EN
METHOD:PUBLISH
X-PUBLISHED-TTL:P3D
REFRESH-INTERVAL:P3D
CALSCALE:GREGORIAN
BEGIN:VEVENT
DTSTART:20141014T200000Z
DTEND:20141015T000000Z
X-MICROSOFT-CDO-ALLDAYEVENT:FALSE
SUMMARY:Blaine Family Chiropractic\, Member Appreciation and Ribbon Cutting
DESCRIPTION:Join the Blaine Family Chiropractic Clinic in celebrating their new ownership by partaking in their Member Appreciation Gathering and Ribbon Cutting Ceremony.
X-ALT-DESC;FMTTYPE=text/html:Join the Blaine Family Chiropractic Clinic in celebrating their new ownership by partaking in their Member Appreciation Gathering and Ribbon Cutting Ceremony.
LOCATION:10950 Club West Parkway Suite 110\, Blaine\, MN 55449
UID:e.380.151576
SEQUENCE:3
DTSTAMP:20260423T192616Z
URL:http://members.metronorthchamber.org/events/details/blaine-family-chiropractic-member-appreciation-and-ribbon-cutting-10-14-2014-151576
END:VEVENT

END:VCALENDAR
