BEGIN:VCALENDAR
VERSION:2.0
PRODID:-//ChamberMaster//Event Calendar 2.0//EN
METHOD:PUBLISH
X-PUBLISHED-TTL:P3D
REFRESH-INTERVAL:P3D
CALSCALE:GREGORIAN
BEGIN:VEVENT
DTSTART:20190803T150000Z
DTEND:20190803T200000Z
X-MICROSOFT-CDO-ALLDAYEVENT:FALSE
SUMMARY:Blaine Eye Clinic-Retirement Open House
DESCRIPTION:We are hosting a retirement open house for Dr. Lynn Sulerud of Blaine Eye Clinic on Saturday\, August 3rd\, from 10-3. Dr. Sulerud founded Blaine Eye Clinic in 1979 in Blaine and been a long time member of the MetroNorth Chamber.\n\n			\n\n			Please stop in and wish Dr. Sulerud the best and congratulate him on his retirement!
X-ALT-DESC;FMTTYPE=text/html:<table border="0" cellpadding="0" cellspacing="0">\n	<tbody>\n		<tr>\n			<td style="padding:3.75pt 3.75pt 3.75pt 3.75pt\;"><span style="font-family:arial\,sans-serif\;"><span style="font-size:10.0pt\;"><span style="font-size:14px\;">We are hosting a retirement open house for Dr. Lynn Sulerud of Blaine Eye Clinic on Saturday\, August 3rd\, from 10-3. Dr. Sulerud founded Blaine Eye Clinic in 1979 in Blaine and been a long time member of the MetroNorth Chamber.</span><br />\n			<br />\n			<span style="font-size:14px\;">Please stop in and wish Dr. Sulerud the best and congratulate him on his retirement!</span></span></span></td>\n		</tr>\n	</tbody>\n</table>\n
LOCATION:Blaine Eye Clinic 12170 Aberdeen Street NE Blaine 55449
UID:e.380.190698
SEQUENCE:3
DTSTAMP:20260419T213229Z
URL:http://members.metronorthchamber.org/events/details/blaine-eye-clinic-retirement-open-house-190698
END:VEVENT

END:VCALENDAR
