BEGIN:VCALENDAR
VERSION:2.0
PRODID:-//ChamberMaster//Event Calendar 2.0//EN
METHOD:PUBLISH
X-PUBLISHED-TTL:P3D
REFRESH-INTERVAL:P3D
CALSCALE:GREGORIAN
BEGIN:VEVENT
DTSTART:20150121T140000Z
DTEND:20150122T030000Z
X-MICROSOFT-CDO-ALLDAYEVENT:FALSE
SUMMARY:Blaine Dentistry Ribbon Cutting
DESCRIPTION:Ribbon Cutting for Blaine Dentistry Grand Opening!
X-ALT-DESC;FMTTYPE=text/html:Ribbon Cutting for Blaine Dentistry Grand Opening!
LOCATION:Blaine Dentistry 1384 109th Ave NE\, Suite 200 Blaine\, MN 55434
UID:e.380.152164
SEQUENCE:3
DTSTAMP:20260423T144607Z
URL:http://members.metronorthchamber.org/events/details/blaine-dentistry-ribbon-cutting-01-21-2015-152164
END:VEVENT

END:VCALENDAR
