BEGIN:VCALENDAR
VERSION:2.0
PRODID:-//ChamberMaster//Event Calendar 2.0//EN
METHOD:PUBLISH
X-PUBLISHED-TTL:P3D
REFRESH-INTERVAL:P3D
CALSCALE:GREGORIAN
BEGIN:VEVENT
DTSTART:20180905T233000Z
DTEND:20180906T003000Z
X-MICROSOFT-CDO-ALLDAYEVENT:FALSE
SUMMARY:Blaine Candidate Forum (HD37A\, 37B)
DESCRIPTION:The North Metro Mayors Association is hosting legislative candidate forums in eight North Metro cities. NMMA is partnering with the MetroNorth Chamber to put a spotlight on transportation\, economic development and other issues important to the region.\n\n\n\nThe forums are open to the public. They will be taped and aired on local cable stations. In addition to having the opportunity to meet the different candidates\, attendees also will be able to submit questions to the moderator to be answered by the candidates.\n\n\n\nThe North Metro Mayors Association represents nearly a half million residents in the northern suburbs of Minneapolis and St. Paul\, and it brings a unique voice to the state capital\, according to Kathi Hemken\, mayor of New Hope and president of the North Metro Mayors Association.\n\n \n\n"Our goal with the forums is to connect with policy makers and demonstrate that our communities face unique challenges\," said Hemken.  "We encourage our representatives to work together to address a wide range of issues that impact the North Metro area."\n\n \n\nVisit www.NorthMetroMayors.org for more information.
X-ALT-DESC;FMTTYPE=text/html:The <a href="http://northmetromayors.org/">North Metro Mayors Association</a> is hosting legislative candidate forums in eight North Metro cities. NMMA is partnering with the MetroNorth Chamber to put a spotlight on transportation\, economic development and other issues important to the region.<br />\n<br />\nThe forums are open to the public. They will be taped and aired on local cable stations. In addition to having the opportunity to meet the different candidates\, attendees also will be able to submit questions to the moderator to be answered by the candidates.<br />\n<br />\nThe North Metro Mayors Association represents nearly a half million residents in the northern suburbs of Minneapolis and St. Paul\, and it brings a unique voice to the state capital\, according to Kathi Hemken\, mayor of New Hope and president of the North Metro Mayors Association.<br />\n&nbsp\;<br />\n&ldquo\;Our goal with the forums is to connect with policy makers and demonstrate that our communities face unique challenges\,&rdquo\; said Hemken. &nbsp\;&ldquo\;We encourage our representatives to work together to address a wide range of issues that impact the North Metro area.&rdquo\;<br />\n&nbsp\;<br />\nVisit <a href="http://www.northmetromayors.org/">www.NorthMetroMayors.org</a> for more information.
LOCATION:Blaine City Hall 10801 Town Square Dr NE Blaine\, MN 55449
UID:e.380.186937
SEQUENCE:3
DTSTAMP:20260420T165425Z
URL:http://members.metronorthchamber.org/events/details/blaine-candidate-forum-hd37a-37b-186937
END:VEVENT

END:VCALENDAR
