BEGIN:VCALENDAR
VERSION:2.0
PRODID:-//ChamberMaster//Event Calendar 2.0//EN
METHOD:PUBLISH
X-PUBLISHED-TTL:P3D
REFRESH-INTERVAL:P3D
CALSCALE:GREGORIAN
BEGIN:VEVENT
DTSTART:20181025T123000Z
DTEND:20181025T140000Z
X-MICROSOFT-CDO-ALLDAYEVENT:FALSE
SUMMARY:Blaine Business Council
DESCRIPTION:All Blaine businesses are welcome to attend this quarterly meeting. Our featured business is Rasmussen College and our feature topic is Higher Education. Also\, we will hear an economic development update from Erik Thorvig.
X-ALT-DESC;FMTTYPE=text/html:All Blaine businesses are welcome to attend this quarterly meeting. Our featured business is Rasmussen College and our feature topic is Higher Education. Also\, we will hear an economic development update from Erik Thorvig.
LOCATION:TPC Twin Cities 1444 Tournament Players Parkway Blaine 55449
UID:e.380.180186
SEQUENCE:3
DTSTAMP:20260420T140445Z
URL:http://members.metronorthchamber.org/events/details/blaine-business-council-180186
END:VEVENT

END:VCALENDAR
