BEGIN:VCALENDAR
VERSION:2.0
PRODID:-//ChamberMaster//Event Calendar 2.0//EN
METHOD:PUBLISH
X-PUBLISHED-TTL:P3D
REFRESH-INTERVAL:P3D
CALSCALE:GREGORIAN
BEGIN:VEVENT
DTSTART:20180726T123000Z
DTEND:20180726T140000Z
X-MICROSOFT-CDO-ALLDAYEVENT:FALSE
SUMMARY:Blaine Business Council
DESCRIPTION:All Blaine businesses are welcome to attend this quarterly meeting. Our featured business is Kris Lindhal & our featured topic is Commercial Development
X-ALT-DESC;FMTTYPE=text/html:All Blaine businesses are welcome to attend this quarterly meeting. Our featured business is Kris Lindhal &amp\; our featured topic is Commercial Development
LOCATION:TPC Twin Cities 1444 Tournament Players Parkway Blaine 55449
UID:e.380.180185
SEQUENCE:3
DTSTAMP:20260420T182711Z
URL:http://members.metronorthchamber.org/events/details/blaine-business-council-180185
END:VEVENT

END:VCALENDAR
