BEGIN:VCALENDAR
VERSION:2.0
PRODID:-//ChamberMaster//Event Calendar 2.0//EN
METHOD:PUBLISH
X-PUBLISHED-TTL:P3D
REFRESH-INTERVAL:P3D
CALSCALE:GREGORIAN
BEGIN:VEVENT
DTSTART:20180426T123000Z
DTEND:20180426T140000Z
X-MICROSOFT-CDO-ALLDAYEVENT:FALSE
SUMMARY:Blaine Business Council
DESCRIPTION:All Blaine businesses are welcome to attend this quarterly meeting. Our featured business will be Harley Davidson. Also\, our featured topic for the 2nd quarter is Retail.
X-ALT-DESC;FMTTYPE=text/html:All Blaine businesses are welcome to attend this quarterly meeting. Our featured business will be Harley Davidson. Also\, our featured topic for the 2nd quarter is Retail.&nbsp\;
LOCATION:TPC Twin Cities 1444 Tournament Players Parkway Blaine 55449
UID:e.380.180184
SEQUENCE:3
DTSTAMP:20260420T230949Z
URL:http://members.metronorthchamber.org/events/details/blaine-business-council-180184
END:VEVENT

END:VCALENDAR
