BEGIN:VCALENDAR
VERSION:2.0
PRODID:-//ChamberMaster//Event Calendar 2.0//EN
METHOD:PUBLISH
X-PUBLISHED-TTL:P3D
REFRESH-INTERVAL:P3D
CALSCALE:GREGORIAN
BEGIN:VEVENT
DTSTART:20180125T133000Z
DTEND:20180125T150000Z
X-MICROSOFT-CDO-ALLDAYEVENT:FALSE
SUMMARY:Blaine Business Council
DESCRIPTION:All Blaine businesses are welcome to attend this quarterly meeting
X-ALT-DESC;FMTTYPE=text/html:All Blaine businesses are welcome to attend this quarterly meeting
LOCATION:TPC Twin Cities 1444 Tournament Players Parkway Blaine 55449
UID:e.380.179550
SEQUENCE:3
DTSTAMP:20260421T053915Z
URL:http://members.metronorthchamber.org/events/details/blaine-business-council-179550
END:VEVENT

END:VCALENDAR
