BEGIN:VCALENDAR
VERSION:2.0
PRODID:-//ChamberMaster//Event Calendar 2.0//EN
METHOD:PUBLISH
X-PUBLISHED-TTL:P3D
REFRESH-INTERVAL:P3D
CALSCALE:GREGORIAN
BEGIN:VEVENT
DTSTART:20161027T123000Z
DTEND:20161027T140000Z
X-MICROSOFT-CDO-ALLDAYEVENT:FALSE
SUMMARY:Blaine Business Council
DESCRIPTION:All Blaine businesses are welcome to attend this quarterly meeting. Featured presentation is on public safety/emergency services by Police Chief Olson and Fire Chief Smith. A representative from Allina will also be in attendance.
X-ALT-DESC;FMTTYPE=text/html:All Blaine businesses are welcome to attend this quarterly meeting. Featured presentation is on public safety/emergency services by Police Chief Olson and Fire Chief Smith. A representative from Allina will also be in attendance.
LOCATION:TPC Twin Cities\, 11444 Tournament Players Parkway Blaine.
UID:e.380.159615
SEQUENCE:3
DTSTAMP:20260422T033753Z
URL:http://members.metronorthchamber.org/events/details/blaine-business-council-10-27-2016-159615
END:VEVENT

END:VCALENDAR
