BEGIN:VCALENDAR
VERSION:2.0
PRODID:-//ChamberMaster//Event Calendar 2.0//EN
METHOD:PUBLISH
X-PUBLISHED-TTL:P3D
REFRESH-INTERVAL:P3D
CALSCALE:GREGORIAN
BEGIN:VEVENT
DTSTART:20171026T123000Z
DTEND:20171026T140000Z
X-MICROSOFT-CDO-ALLDAYEVENT:FALSE
SUMMARY:Blaine Business Council
DESCRIPTION:All Blaine businesses are welcome to attend this quarterly meeting. Connexus Energy will discuss their new green initatives. Aveda is the featured business.
X-ALT-DESC;FMTTYPE=text/html:All Blaine businesses are welcome to attend this quarterly meeting. Connexus Energy will discuss their new green initatives. Aveda is the featured business.&nbsp\;
LOCATION:TPC Twin Cities 1444 Tournament Players Parkway Blaine 55449
UID:e.380.169169
SEQUENCE:3
DTSTAMP:20260421T094703Z
URL:http://members.metronorthchamber.org/events/details/blaine-business-council-10-26-2017-169169
END:VEVENT

END:VCALENDAR
