BEGIN:VCALENDAR
VERSION:2.0
PRODID:-//ChamberMaster//Event Calendar 2.0//EN
METHOD:PUBLISH
X-PUBLISHED-TTL:P3D
REFRESH-INTERVAL:P3D
CALSCALE:GREGORIAN
BEGIN:VEVENT
DTSTART:20170427T123000Z
DTEND:20170427T140000Z
X-MICROSOFT-CDO-ALLDAYEVENT:FALSE
SUMMARY:Blaine Business Council
DESCRIPTION:All Blaine businesses are welcome to attend this quarterly meeting. City\, school and business updates will be discussed.
X-ALT-DESC;FMTTYPE=text/html:All Blaine businesses are welcome to attend this quarterly meeting. City\, school and business&nbsp\;updates will be discussed.
LOCATION:Infinite Campus 4321 109th Avenue Blaine MN
UID:e.380.169167
SEQUENCE:3
DTSTAMP:20260421T170623Z
URL:http://members.metronorthchamber.org/events/details/blaine-business-council-04-27-2017-169167
END:VEVENT

END:VCALENDAR
