BEGIN:VCALENDAR
VERSION:2.0
PRODID:-//ChamberMaster//Event Calendar 2.0//EN
METHOD:PUBLISH
X-PUBLISHED-TTL:P3D
REFRESH-INTERVAL:P3D
CALSCALE:GREGORIAN
BEGIN:VEVENT
DTSTART:20140424T123000Z
DTEND:20140424T140000Z
X-MICROSOFT-CDO-ALLDAYEVENT:FALSE
SUMMARY:Blaine Business Council
DESCRIPTION:The April 24th meeting of the Blaine Business Council will spotlight possible upcoming logistical gridlock within the City\, focusing on Hwy 65\, and how we may be able to affect a positive solution starting today.\n\n \n\nBlaine is forecasting a 30% population explosion over the next two decades. The city will have over 85\,000 residents (according to Met Council predictions released 2/19/14)\, up from 60\,000\, within the next twenty-five years\, making Blaine Anoka County's most populated city. How will our roads handle the ever-growing congestion and what can we do now to start planning for it?\n\n \n\nThe City\, County and State will present an overview of current and future projects within Blaine and point out choke points that are in need of work\, yet not even on the regional planning calendar due to funding challenges. \n\n \n\nWe all know about traffic congestion within the City and our workforce meets these same issues every day. Please plan to attend our April 24th meeting to learn about these issues and how to bring about solutions.
X-ALT-DESC;FMTTYPE=text/html:<br />\n<span style="font-size:12px\;"><span style="font-family: tahoma\;">The April 24<sup>th</sup> meeting of the Blaine Business Council will spotlight possible upcoming logistical<strong> gridlock</strong> within the City\, focusing on Hwy 65\, and how we may be able to affect a positive solution starting today.<br />\n&nbsp\;<br />\nBlaine is forecasting a <strong>30%</strong> population explosion over the next two decades. The city will have over 85\,000 residents (according to Met Council predictions released 2/19/14)\, up from 60\,000\, within the next twenty-five years\, making Blaine Anoka County&rsquo\;s most populated city. How will our roads handle the ever-growing congestion and what can we do <strong>now</strong> to start planning for it?<br />\n&nbsp\;<br />\nThe City\, County and State will present an overview of current and future projects within Blaine and point out<strong> choke points</strong> that are in need of work\, yet not even on the regional planning calendar due to funding challenges.&nbsp\;<br />\n&nbsp\;<br />\nWe all know about traffic congestion within the City and our workforce meets these same issues every day. Please plan to attend our April 24<sup>th</sup> meeting to learn about these issues and how to bring about solutions.<br />\n&nbsp\;<br />\n&nbsp\;</span></span><br />\n&nbsp\;
LOCATION:TPC Twin Cities - Blaine
UID:e.380.150051
SEQUENCE:3
DTSTAMP:20260424T044436Z
URL:http://members.metronorthchamber.org/events/details/blaine-business-council-04-24-2014-150051
END:VEVENT

END:VCALENDAR
