BEGIN:VCALENDAR
VERSION:2.0
PRODID:-//ChamberMaster//Event Calendar 2.0//EN
METHOD:PUBLISH
X-PUBLISHED-TTL:P3D
REFRESH-INTERVAL:P3D
CALSCALE:GREGORIAN
BEGIN:VEVENT
DTSTART:20150423T123000Z
DTEND:20150423T140000Z
X-MICROSOFT-CDO-ALLDAYEVENT:FALSE
SUMMARY:Blaine Business Council
DESCRIPTION:All Blaine businesses are welcome to attend this quarterly meeting.\n\nFeatured business: Walters Recycling & Refuse\, Inc.
X-ALT-DESC;FMTTYPE=text/html:All Blaine businesses are welcome to attend this quarterly meeting.<br />\nFeatured business: Walters Recycling &amp\; Refuse\, Inc.
LOCATION:TPC Twin Cities\, 11444 Tournament Players Parkway Blaine.
UID:e.380.157256
SEQUENCE:3
DTSTAMP:20260423T112109Z
URL:http://members.metronorthchamber.org/events/details/blaine-business-council-04-23-2015-157256
END:VEVENT

END:VCALENDAR
