BEGIN:VCALENDAR
VERSION:2.0
PRODID:-//ChamberMaster//Event Calendar 2.0//EN
METHOD:PUBLISH
X-PUBLISHED-TTL:P3D
REFRESH-INTERVAL:P3D
CALSCALE:GREGORIAN
BEGIN:VEVENT
DTSTART:20150129T133000Z
DTEND:20150129T150000Z
X-MICROSOFT-CDO-ALLDAYEVENT:FALSE
SUMMARY:Blaine Business Council
DESCRIPTION:All Blaine businesses are welcome to attend this quarterly meeting.\n\nState of the City Address & Presentation by Aveda.
X-ALT-DESC;FMTTYPE=text/html:All Blaine businesses are welcome to attend this quarterly meeting.<br />\nState of the City Address &amp\; Presentation by Aveda.
LOCATION:TPC Twin Cities\, 11444 Tournament Players Parkway Blaine.
UID:e.380.150053
SEQUENCE:3
DTSTAMP:20260423T144739Z
URL:http://members.metronorthchamber.org/events/details/blaine-business-council-01-29-2015-150053
END:VEVENT

END:VCALENDAR
