BEGIN:VCALENDAR
VERSION:2.0
PRODID:-//ChamberMaster//Event Calendar 2.0//EN
METHOD:PUBLISH
X-PUBLISHED-TTL:P3D
REFRESH-INTERVAL:P3D
CALSCALE:GREGORIAN
BEGIN:VEVENT
DTSTART:20140123T133000Z
DTEND:20140123T150000Z
X-MICROSOFT-CDO-ALLDAYEVENT:FALSE
SUMMARY:Blaine Business Council
DESCRIPTION:All Blaine businesses are welcome to attend this quarterly meeting. Meeting Agenda\n\n\n	\n		7:30am:  Call to Order\n	\n		Mission Statement: The goal of the Business Council is to make Blaine a better City by bringing the right people together\, to talk about the right topics\, and ultimately make better decisions through mutual advocacy\, education and information.\n	\n		Introductions\n	\n		City Updates: news\, developments\, upcoming events\n	\n		School District - Brief Updates\n	\n		Economic Activity Updates: news\, past/upcoming events\n\n\n	\n		Chamber of Commerce Updates: upcoming events\n	\n		9:00am:  Adjournment
X-ALT-DESC;FMTTYPE=text/html:All Blaine businesses are welcome to attend this quarterly meeting.<span style="font-size: 11px\;"> <span style="font-family: arial\;"><strong>Meeting Agenda</strong></span></span><br />\n<ol>\n	<li>\n		<span style="font-size: 11px\;"><span style="font-family: arial\;">7:30am: &nbsp\;Call to Order</span></span></li>\n	<li>\n		<span style="font-size: 11px\;"><span style="font-family: arial\;">Mission Statement: <strong><em>The goal of the Business Council is to make Blaine a better City by bringing the right people together\, to talk about the right topics\, and ultimately make better decisions through mutual advocacy\, education and information.</em></strong></span></span></li>\n	<li value="3">\n		<span style="font-size: 11px\;"><span style="font-family: arial\;">Introductions</span></span></li>\n	<li value="4">\n		<span style="font-size: 11px\;"><span style="font-family: arial\;">City Updates: news\, developments\, upcoming events</span></span></li>\n	<li value="5">\n		<span style="font-size: 11px\;"><span style="font-family: arial\;">School District - Brief Updates</span></span></li>\n	<li value="6">\n		<span style="font-size: 11px\;"><span style="font-family: arial\;">Economic Activity Updates: news\, past/upcoming events</span></span></li>\n</ol>\n<ol>\n	<li value="7">\n		<span style="font-size: 11px\;"><span style="font-family: arial\;">Chamber of Commerce Updates: upcoming events</span></span></li>\n	<li value="8">\n		<span style="font-size: 11px\;"><span style="font-family: arial\;">9:00am: &nbsp\;Adjournment</span></span></li>\n</ol>\n
LOCATION:TPC Twin Cities - Blaine
UID:e.380.149840
SEQUENCE:3
DTSTAMP:20260424T111544Z
URL:http://members.metronorthchamber.org/events/details/blaine-business-council-01-23-2014-149840
END:VEVENT

END:VCALENDAR
