BEGIN:VCALENDAR
VERSION:2.0
PRODID:-//ChamberMaster//Event Calendar 2.0//EN
METHOD:PUBLISH
X-PUBLISHED-TTL:P3D
REFRESH-INTERVAL:P3D
CALSCALE:GREGORIAN
BEGIN:VEVENT
DTSTART:20190728T210000Z
DTEND:20190729T000000Z
X-MICROSOFT-CDO-ALLDAYEVENT:FALSE
SUMMARY:Bingo
DESCRIPTION:Please join us at the Majestic Oaks Golf Club for Bingo in the 46th Hole Bar & Grill
X-ALT-DESC;FMTTYPE=text/html:Please join us at the Majestic Oaks Golf Club for Bingo in the 46th Hole Bar &amp\; Grill
LOCATION:Majestic Oaks Golf Club 701 Bunker Lake Blvd NE Ham Lake\, MN 55304
UID:e.380.188598
SEQUENCE:3
DTSTAMP:20260419T225507Z
URL:http://members.metronorthchamber.org/events/details/bingo-07-28-2019-188598
END:VEVENT

END:VCALENDAR
