BEGIN:VCALENDAR
VERSION:2.0
PRODID:-//ChamberMaster//Event Calendar 2.0//EN
METHOD:PUBLISH
X-PUBLISHED-TTL:P3D
REFRESH-INTERVAL:P3D
CALSCALE:GREGORIAN
BEGIN:VEVENT
DTSTART:20190619T230000Z
DTEND:20190620T020000Z
X-MICROSOFT-CDO-ALLDAYEVENT:FALSE
SUMMARY:Bingo
DESCRIPTION:Please join us at the Majestic Oaks Golf Club for Bingo in the 46th Hole Bar & Grill
X-ALT-DESC;FMTTYPE=text/html:Please join us at the Majestic Oaks Golf Club for Bingo in the 46th Hole Bar &amp\; Grill
LOCATION:Majestic Oaks Golf Club 701 Bunker Lake Blvd NE Ham Lake\, MN 55304
UID:e.380.188615
SEQUENCE:3
DTSTAMP:20260420T022424Z
URL:http://members.metronorthchamber.org/events/details/bingo-06-19-2019-188615
END:VEVENT

END:VCALENDAR
