BEGIN:VCALENDAR
VERSION:2.0
PRODID:-//ChamberMaster//Event Calendar 2.0//EN
METHOD:PUBLISH
X-PUBLISHED-TTL:P3D
REFRESH-INTERVAL:P3D
CALSCALE:GREGORIAN
BEGIN:VEVENT
DTSTART;VALUE=DATE:20190319
DTEND;VALUE=DATE:20190320
TRANSP:TRANSPARENT
X-MICROSOFT-CDO-ALLDAYEVENT:TRUE
SUMMARY:Bill's Gun Shop & Range YOUTH Day/Night
DESCRIPTION:Youth Day/Night is EVERY Tuesday\, ALL day\, at ALL Bill's Gun Shop & Range Locations.\n\nDuring Youth Day / Night\, we have designated lanes for youth ONLY. Our goal is to create a comfortable environment where everyone can shoot\, from the very beginner to the most advanced. One of the greatest things about the shooting sport is that anyone and everyone can participate. Youth Night is designed to be fun\, educational\, and empowering.  We encourage everyone to participate and ask any questions\, in a safe non-judgmental environment.\n\nIncluded in Youth Day/Night:\n\n- Free eye and ear protection rental\n\n- 1 free target\n\n- Kids 10-17 years old  get free range fee with Paying adult (Limit 2 kids per adult)  \n\n- Rent any range gun for $5.00\n\nNo Reservations Needed / Walk-ins welcome!\n\nShooters must be 10 or older to use the range. Shooters between the age of 10 and 17 must be accompanied by a parent\, or have a Youth Permission Slip filled out by their parent or guardian and be accompanied by an adult.
X-ALT-DESC;FMTTYPE=text/html:<strong><span style="font-family:verdana\,geneva\; font-size:12pt">Youth Day/Night is EVERY Tuesday\, ALL day\, at ALL Bill&rsquo\;s Gun Shop &amp\; Range Locations.</span></strong>\n\n<p><span style="font-family:verdana\,geneva\; font-size:12pt">During Youth Day / Night\, we have designated lanes for youth ONLY. Our goal is to create a comfortable environment where everyone can shoot\, from the very beginner to the most advanced. One of the greatest things about the shooting sport is that anyone and everyone can participate. Youth Night is designed to be fun\, educational\, and empowering.&nbsp\; We encourage everyone to participate and ask any questions\, in a safe non-judgmental environment.</span></p>\n\n<p><strong><span style="font-family:verdana\,geneva\; font-size:12pt">Included in Youth Day/Night:</span></strong><br />\n<span style="font-family:verdana\,geneva\; font-size:12pt">- Free eye and ear protection rental</span><br />\n<span style="font-family:verdana\,geneva\; font-size:12pt">- 1 free target</span><br />\n<span style="font-family:verdana\,geneva\; font-size:12pt">- Kids 10-17 years old&nbsp\; get free range fee with Paying adult (Limit 2 kids per adult) &nbsp\;</span><br />\n<span style="font-family:verdana\,geneva\; font-size:12pt">- Rent any range gun for $5.00</span></p>\n\n<p><span style="font-family:verdana\,geneva\; font-size:12pt">No Reservations Needed / Walk-ins welcome!</span></p>\n\n<p><span style="font-family:verdana\,geneva\; font-size:12pt">Shooters must be 10 or older to use the range. Shooters between the age of 10 and 17 must be accompanied by a parent\,&nbsp\;<span style="font-size:12pt">or have a</span> <a href="https://www.billsgs.com/images/YouthPermissionSlip.pdf" target="_blank" title="Youth Permission Slip">Youth Permission Slip</a> <span style="font-size:12pt"><span style="font-size:12pt">filled out by their parent or guardian and be accompanied by an adult.</span></span></span></p>\n
LOCATION:Open 9am to 9pm 7 days a week! 4080 West Broadway Avenue\, Robbinsdale\, MN 55422 Telephone: 763-533-9594 FAX: 763-533-2997 3621 88th Avenue North East\, Circle Pines\, MN 55014 Telephone: 763-792-4867 FAX: 763-784-7648 1920 Crest View Drive Hudson\, WI 54016 Telephone: 715-690-1198 FAX: 715-220-4019 Opening October 1\, 2015 in Fargo\, ND! 1040 35th Street North\, Fargo\, ND 58102 Telephone: 701-353-8748 FAX: 701-353-8749
UID:e.380.158106
SEQUENCE:3
DTSTAMP:20260420T060526Z
URL:http://members.metronorthchamber.org/events/details/bill-s-gun-shop-range-youth-day-night-03-19-2019-158106
END:VEVENT

END:VCALENDAR
