BEGIN:VCALENDAR
VERSION:2.0
PRODID:-//ChamberMaster//Event Calendar 2.0//EN
METHOD:PUBLISH
X-PUBLISHED-TTL:P3D
REFRESH-INTERVAL:P3D
CALSCALE:GREGORIAN
BEGIN:VEVENT
DTSTART:20171221T000000Z
DTEND:20171221T030000Z
X-MICROSOFT-CDO-ALLDAYEVENT:FALSE
SUMMARY:Bill's Gun Shop & Range LADIES NIGHT at the range!
DESCRIPTION:Bill's Gun Shop & Range LADIES NIGHT at the range:\n\n\n\nEVERY WEDNESDAY\, EVERY LOCATION\, 6PM - 9PM!\n\n\n\nDiscounted $15 Range fee for the LADIES ONLY including free range eye & ear protection and a free target!\n\nDuring Ladies Night\, we have designated lanes for ladies ONLY and a Bill's certified Firearms Instructor will be on the range to lend a hand. Our goal is to create a comfortable environment everyone can shoot\, that being from the very beginner to the most advanced. One of the greatest things about the shooting sport\, anyone and everyone can participate. Ladies Night is designed to be fun\, educational\, and empowering.  We encourage everyone to participate and ask any questions\, in a safe non-judgmental environment.
X-ALT-DESC;FMTTYPE=text/html:<span style="color:#ff0000"><strong>Bill&#39\;s Gun Shop &amp\; Range LADIES NIGHT at the range:</strong></span><br />\n<br />\n<strong>EVERY WEDNESDAY\, EVERY LOCATION\, 6PM - 9PM!</strong><br />\n<br />\nDiscounted $15 Range fee for the LADIES ONLY including free range eye &amp\; ear protection and a free target!<br />\nDuring Ladies Night\, we have designated lanes for ladies ONLY and a Bill&rsquo\;s certified Firearms Instructor will be on the range to lend a hand. Our goal is to create a comfortable environment everyone can shoot\, that being from the very beginner to the most advanced. One of the greatest things about the shooting sport\, anyone and everyone can participate. Ladies Night is designed to be fun\, educational\, and empowering.&nbsp\; We encourage everyone to participate and ask any questions\, in a safe non-judgmental environment.
LOCATION:3621 88th Ave NE Circle Pines\, MN 55014 Ph: 763-792-4867 4080 W Broadway Ave\, Robbinsdale\, MN 55422 Ph: 763-533-9594 1920 Crestview Dr Hudson\, WI 54016 Ph: 715-690-1198
UID:e.380.158512
SEQUENCE:3
DTSTAMP:20260421T051812Z
URL:http://members.metronorthchamber.org/events/details/bill-s-gun-shop-range-ladies-night-at-the-range-12-20-2017-158512
END:VEVENT

END:VCALENDAR
