BEGIN:VCALENDAR
VERSION:2.0
PRODID:-//ChamberMaster//Event Calendar 2.0//EN
METHOD:PUBLISH
X-PUBLISHED-TTL:P3D
REFRESH-INTERVAL:P3D
CALSCALE:GREGORIAN
BEGIN:VEVENT
DTSTART;VALUE=DATE:20170101
DTEND;VALUE=DATE:20170201
TRANSP:TRANSPARENT
X-MICROSOFT-CDO-ALLDAYEVENT:TRUE
SUMMARY:Bill's Gun Shop & Range - Gun of the Month - January 2017 - Smith & Wesson Shield 45ACP
DESCRIPTION:January Gun of the Month -\n\nSmith & Wesson Shield 45ACP\n\nSale Price: $419\n\nFREE rental all month long!\n\nJoin Our Mailing List to find out how\n\nto Win A FREE Gun Every Month!\n\nOnly at Bill's Gun Shop & Range Locations!
X-ALT-DESC;FMTTYPE=text/html:<p><span style="font-family:verdana\,geneva\; font-size:12pt"><strong><span style="font-size:12pt">January Gun of the Month -</span></strong></span></p>\n\n<p><span style="font-family:verdana\,geneva\; font-size:12pt"><strong><span style="font-size:12pt">Smith &amp\; Wesson Shield 45ACP</span></strong></span></p>\n\n<p><span style="font-family:verdana\,geneva\; font-size:12pt"><span style="font-size:12pt"><span style="font-size:12pt"><span style="font-size:12pt"><span style="font-size:12pt"><span style="font-size:12pt"><span style="font-size:12pt"><span style="font-size:12pt"><span style="font-size:12pt"><span style="font-size:12pt"><span style="font-size:12pt"><span style="font-size:12pt"><span style="font-size:12pt"><span style="font-size:12pt"><span style="font-size:12pt"><span style="font-size:12pt"><span style="font-size:12pt">Sale Price: $419</span></span></span></span></span></span></span></span></span></span></span></span></span></span></span></span></span></p>\n\n<p><span style="font-family:verdana\,geneva\; font-size:12pt"><span style="font-size:12pt"><span style="font-size:12pt"><span style="font-size:12pt"><span style="font-size:12pt"><span style="font-size:12pt"><span style="font-size:12pt"><span style="font-size:12pt"><span style="font-size:12pt"><span style="font-size:12pt"><span style="font-size:12pt"><span style="font-size:12pt"><span style="font-size:12pt"><span style="font-size:12pt"><span style="font-size:12pt"><span style="font-size:12pt"><span style="font-size:12pt">FREE rental all month long!</span></span></span></span></span></span></span></span></span></span></span></span></span></span></span></span></span></p>\n\n<p><span style="font-family:verdana\,geneva"><span style="font-size:12pt">Join Our Mailing List to find out how</span></span></p>\n\n<p><span style="font-family:verdana\,geneva"><span style="font-size:12pt">to&nbsp\;</span><span style="font-size:12pt"><strong><a href="https://www.billsgs.com/join-our-mailing-list" style="margin: 0px\; padding: 0px\; color: rgb(199\, 50\, 46)\; outline: none\; text-decoration: none\;" target="_blank" title="Join Our Mailing List!">Win A FREE Gun Every Month</a></strong></span><span style="font-size:12pt">!</span></span></p>\n\n<p><span style="font-family:verdana\,geneva\; font-size:12pt">Only at&nbsp\;<a href="https://www.billsgs.com/billsgs-locations" style="margin: 0px\; padding: 0px\; color: rgb(199\, 50\, 46)\; outline: none\; text-decoration: none\;" target="_self" title="Bill's Gun Shop &amp\; Range Locations">Bill&#39\;s Gun Shop &amp\; Range Locations</a>!</span></p>\n
LOCATION:ROBBINSDALE 4080 West Broadway Avenue\, Robbinsdale\, MN 55422 Telephone: 763-533-9594 FAX: 763-533-2997 Open 9am to 9pm 7 days a week! CIRCLE PINES 3621 88th Avenue North East\, Circle Pines\, MN 55014 Telephone: 763-792-4867 FAX: 763-784-7648 Open 9am to 9pm 7 days a week! HUDSON 1920 Crest View Drive Hudson\, WI 54016 Telephone: 715-690-1198 FAX: 715-220-4019 Open 9am to 9pm 7 days a week! FARGO 1040 35th Street North\, Fargo\, ND 58102 Telephone: 701-353-8748 FAX: 701-353-8749 Mon - Sat 9am to 9pm Sun 12pm to 9pm MOORHEAD 2901 Frontage Road S\, Suite 7 Moorhead\, MN 56560* Telephone: 218-208-4403 FAX: 218-208-4404 *Gunshop only Mon - Sat 11am to 8pm Sun 12pm to 5pm BRAINERD 7609 Excelsior Rd. Baxter\, MN 56425* Telephone: 218-822-2804 Open 9am to 9pm 7 days a week!
UID:e.380.171234
SEQUENCE:3
DTSTAMP:20260421T221642Z
URL:http://members.metronorthchamber.org/events/details/bill-s-gun-shop-range-gun-of-the-month-january-2017-smith-wesson-shield-45acp-171234
END:VEVENT

END:VCALENDAR
