BEGIN:VCALENDAR
VERSION:2.0
PRODID:-//ChamberMaster//Event Calendar 2.0//EN
METHOD:PUBLISH
X-PUBLISHED-TTL:P3D
REFRESH-INTERVAL:P3D
CALSCALE:GREGORIAN
BEGIN:VEVENT
DTSTART:20120329T233000Z
DTEND:20120330T003000Z
X-MICROSOFT-CDO-ALLDAYEVENT:FALSE
SUMMARY:Beyond the Yellow Ribbon Kickoff
DESCRIPTION:Together we can become a \n\n	Yellow Ribbon Community \n\n	Beyond the Yellow Ribbon is a comprehensive program that creates awareness for the purpose of connecting Servicemembers and their families with community support\, training\, services and resources. \n\n	It's neighbors supporting neighbors. \n\n	Beyond the Yellow Ribbon is united to bring Servicemembers all the way home. \n\n	The cities of Andover\, Anoka\, Champlin\, Coon Rapids and Ramsey are beginning the process of becoming Yellow Ribbon Cities to show our support of military families in our community. \n\n	Please join in our Kickoff event. We need support from all key areas of the community\, to include: \n\n	  Educators \n\n	  Elected officials \n\n	  Employers \n\n	  Faith-based organizations \n\n	  Veterans and civic organizations \n\n	  Public safety/judicial \n\n	  Medical and social services organizations \n\n	  Volunteers from the community \n\n	For more information on the program please visit www.BeyondTheYellowRibbon.org
X-ALT-DESC;FMTTYPE=text/html:<p align="left">\n	&nbsp\;<span style="font-size: 11px"><span style="font-family: tahoma"><b>Together we can become a </b></span></span></p>\n<p>\n	<span style="font-size: 11px"><span style="font-family: tahoma"><b>Yellow Ribbon Community </b></span></span></p>\n<p>\n	<span style="font-size: 10px"><span style="font-family: tahoma">Beyond the Yellow Ribbon is a comprehensive program that creates awareness for the purpose of connecting Servicemembers and their families with community support\, training\, services and resources. </span></span></p>\n<p>\n	<span style="font-size: 10px"><span style="font-family: tahoma">It&rsquo\;s neighbors supporting neighbors. </span></span></p>\n<p>\n	<span style="font-size: 10px"><span style="font-family: tahoma"><b>Beyond the Yellow Ribbon is united to bring Servicemembers all the way home. </b></span></span></p>\n<p>\n	<span style="font-size: 10px"><span style="font-family: tahoma">The cities of Andover\, Anoka\, Champlin\, Coon Rapids and Ramsey are beginning the process of becoming Yellow Ribbon Cities to show our support of military families in our community. </span></span></p>\n<p>\n	<span style="font-size: 10px"><span style="font-family: tahoma">Please join in our Kickoff event. We need support from all key areas of the community\, to include: </span></span></p>\n<p>\n	<span style="font-size: 10px"><span style="font-family: tahoma">&bull\; Educators </span></span></p>\n<p>\n	<span style="font-size: 10px"><span style="font-family: tahoma">&bull\; Elected officials </span></span></p>\n<p>\n	<span style="font-size: 10px"><span style="font-family: tahoma">&bull\; Employers </span></span></p>\n<p>\n	<span style="font-size: 10px"><span style="font-family: tahoma">&bull\; Faith-based organizations </span></span></p>\n<p>\n	<span style="font-size: 10px"><span style="font-family: tahoma">&bull\; Veterans and civic organizations </span></span></p>\n<p>\n	<span style="font-size: 10px"><span style="font-family: tahoma">&bull\; Public safety/judicial </span></span></p>\n<p>\n	<span style="font-size: 10px"><span style="font-family: tahoma">&bull\; Medical and social services organizations </span></span></p>\n<p>\n	<span style="font-size: 10px"><span style="font-family: tahoma">&bull\; Volunteers from the community </span></span></p>\n<p>\n	<span style="font-size: 10px"><span style="font-family: tahoma">For more information on the program please visit <b>www.BeyondTheYellowRibbon.org </b></span></span></p>\n<font face="Times New Roman\,Times New Roman" size="3"><font face="Times New Roman\,Times New Roman" size="3"><span _fck_bookmark="1" style="display: none">&nbsp\;</span></font></font>
LOCATION:Green Haven Golf & Banquet Center - 2800 Greenhaven Rd. - Anoka\, MN 55303
UID:e.380.143506
SEQUENCE:3
DTSTAMP:20260425T211101Z
URL:http://members.metronorthchamber.org/events/details/beyond-the-yellow-ribbon-kickoff-03-29-2012-143506
END:VEVENT

END:VCALENDAR
