BEGIN:VCALENDAR
VERSION:2.0
PRODID:-//ChamberMaster//Event Calendar 2.0//EN
METHOD:PUBLISH
X-PUBLISHED-TTL:P3D
REFRESH-INTERVAL:P3D
CALSCALE:GREGORIAN
BEGIN:VEVENT
DTSTART:20120925T230000Z
DTEND:20120926T000000Z
X-MICROSOFT-CDO-ALLDAYEVENT:FALSE
SUMMARY:Beyond Organic "Inside Out Makeover"
DESCRIPTION:Beyond Organic "Inside Out Makeover" - A Lifestyle that Minimizes Toxins and Maximizes Health and Performance  \n\n\n\nHear a presentation by Dr. Andy Brown and Rose Holmberg on the importance of cleansing and a toxic free lifestyle\, enjoy samples of Beyond Organic products and get introduced to their new toxic free skin care!
X-ALT-DESC;FMTTYPE=text/html:<br />\n<strong>Beyond Organic</strong><strong> &quot\;Inside Out Makeover&quot\; - A Lifestyle that Minimizes Toxins and Maximizes Health and Performance<span _fck_bookmark="1" style="display: none\;">&nbsp\;</span><span _fck_bookmark="1" style="display: none\;">&nbsp\;</span></strong><br />\n<br />\n<em>Hear a presentation by Dr. Andy Brown and Rose <span>Holmberg</span> on the importance of cleansing and a toxic free lifestyle\, enjoy samples of Beyond Organic products and get introduced to their new toxic free skin care!</em><br />\n
LOCATION:Build & Balance Chiropractic Center 12203 Aberdeen St\, Blaine
UID:e.380.146659
SEQUENCE:3
DTSTAMP:20260425T111111Z
URL:http://members.metronorthchamber.org/events/details/beyond-organic-inside-out-makeover-09-25-2012-146659
END:VEVENT

END:VCALENDAR
