BEGIN:VCALENDAR
VERSION:2.0
PRODID:-//ChamberMaster//Event Calendar 2.0//EN
METHOD:PUBLISH
X-PUBLISHED-TTL:P3D
REFRESH-INTERVAL:P3D
CALSCALE:GREGORIAN
BEGIN:VEVENT
DTSTART;VALUE=DATE:20120712
DTEND;VALUE=DATE:20120714
TRANSP:TRANSPARENT
X-MICROSOFT-CDO-ALLDAYEVENT:TRUE
SUMMARY:Beyond Organic - A Seminar w/Senior VP Deb Bruckschen
DESCRIPTION:Rose and Randy Holmberg have personally been introduced to Jordan Rubin\, author of several books. "The Maker's Diet"\, "Restoring Your Digestive Health"\, "Raw Truth"\, "Children's Health"\, etc. Jordan's latest book is "Live Beyond Organic".\n\n\n\nThe trends in organic eating and living are huge. We are so excited about Jordan's new company Beyond Organic\, because it offers a convenient\, affordable way to have some of the world's healthiest foods and beverages delivered to your door\; eating the way God intended us to eat.\n\n\n\nWhat:\n\nJoin us to welcome presenter Deb Bruckschen\, Beyond Organic Senior Vice President.\n\n\n\nWhere:\n\nComfort Suites Hotel   10580 Baltimore St. NE\, Blaine\, 55449\, (763) 792.0750\n\n\n\nWhen:\n\nThursday\, July 12. 11:00 am\, 3:00 pm\, and 7:00 pm- prizes for the most guests you bring\n\nFriday\, July 13. 11:00 am\, 3:00 pm\, and 7:00 pm- prizes for the most guests you bring\n\n\n\nAny questions\, give Rose Holmberg a call: 763.754.9012 (0) 763.291.5052 (c)
X-ALT-DESC;FMTTYPE=text/html:<span style="font-size:11px\;"><span style="font-family: tahoma\;">Rose and Randy Holmberg have personally been introduced to Jordan Rubin\, author of several books. &ldquo\;The Maker&rsquo\;s Diet&rdquo\;\, &ldquo\;Restoring Your Digestive Health&rdquo\;\, &ldquo\;Raw Truth&rdquo\;\, &ldquo\;Children&rsquo\;s Health&rdquo\;\, etc. Jordan&rsquo\;s latest book is &ldquo\;Live Beyond Organic&rdquo\;.<br />\n<br />\nThe trends in organic eating and living are huge. We are so excited about Jordan&rsquo\;s new company Beyond Organic\, because it offers a convenient\, affordable way to have some of the world&rsquo\;s healthiest foods and beverages delivered to your door\; eating the way God intended us to eat.<br />\n<br />\nWhat:<br />\nJoin us to welcome presenter Deb Bruckschen\, Beyond Organic Senior Vice President.<br />\n<br />\nWhere:<br />\nComfort Suites Hotel &ndash\; 10580 Baltimore St. NE\, Blaine\, 55449\, (763) 792.0750<br />\n<br />\nWhen:<br />\nThursday\, July 12. 11:00 am\, 3:00 pm\, and 7:00 pm- prizes for the most guests you bring<br />\nFriday\, July 13. 11:00 am\, 3:00 pm\, and 7:00 pm- prizes for the most guests you bring<br />\n<br />\nAny questions\, give Rose Holmberg a call: 763.754.9012 (0) 763.291.5052 (c)</span></span><br />\n
LOCATION:Comfort Suites Hotel 10580 Baltimore St. NE Blaine\, MN 55449
UID:e.380.145749
SEQUENCE:3
DTSTAMP:20260425T143103Z
URL:http://members.metronorthchamber.org/events/details/beyond-organic-a-seminar-w-senior-vp-deb-bruckschen-07-12-2012-145749
END:VEVENT

END:VCALENDAR
