BEGIN:VCALENDAR
VERSION:2.0
PRODID:-//ChamberMaster//Event Calendar 2.0//EN
METHOD:PUBLISH
X-PUBLISHED-TTL:P3D
REFRESH-INTERVAL:P3D
CALSCALE:GREGORIAN
BEGIN:VEVENT
DTSTART:20141029T000000Z
DTEND:20141029T010000Z
X-MICROSOFT-CDO-ALLDAYEVENT:FALSE
SUMMARY:Better YOUR Life in Just 30 Days
DESCRIPTION:Join us in Bettering Your Life in JUST 30 Days.  This will include small changes we can make to our day that will better our quality of life.  Please join Dr. Aaron Frach\, Luke Wren and myself\, we would love to see you there.  Please bring along anyone you know\, love and care about.
X-ALT-DESC;FMTTYPE=text/html:Join us in Bettering Your Life in JUST 30 Days. &nbsp\;This will include small changes we can make to our day that will better our quality of life. &nbsp\;Please join Dr. Aaron Frach\, Luke Wren and myself\, we would love to see you there. &nbsp\;Please bring along anyone you know\, love and care about.
LOCATION:Blaine Family Chiropractic 10950 Club West Parkway\, Suite 110 Blaine\, MN 55449
UID:e.380.151690
SEQUENCE:3
DTSTAMP:20260423T205928Z
URL:http://members.metronorthchamber.org/events/details/better-your-life-in-just-30-days-10-28-2014-151690
END:VEVENT

END:VCALENDAR
