BEGIN:VCALENDAR
VERSION:2.0
PRODID:-//ChamberMaster//Event Calendar 2.0//EN
METHOD:PUBLISH
X-PUBLISHED-TTL:P3D
REFRESH-INTERVAL:P3D
CALSCALE:GREGORIAN
BEGIN:VEVENT
DTSTART:20200111T180000Z
DTEND:20200112T060000Z
X-MICROSOFT-CDO-ALLDAYEVENT:FALSE
SUMMARY:Bent Brewstillery Inaugural Winter Luau
DESCRIPTION:Menu includes Kalua Pork\, King's Hawaiian Spam Sandwich\, Mango Slaw\, Grilled Pineapple\, Spamaroni & Cheese\n\nKalua pork provided by our friends at University of Minnesota's Meat Science Lab\n\nA new cocktail we're mixing for the Winter Luau is Sriracha Sunrise with FlameBringer Rum. Also\, $2 pint cans of The Great Sweat!\n\nfire eaters and flame dancers at 6pm\n\nCome get your TIKI ON!
X-ALT-DESC;FMTTYPE=text/html:<p style="padding-top: 0px\; margin: 0px 0px 25px\; color: rgb(118\, 122\, 141)\; font-family: &quot\;Source Sans Pro&quot\;\; font-size: 16px\;">Menu includes Kalua Pork\, King&rsquo\;s Hawaiian Spam Sandwich\, Mango Slaw\, Grilled Pineapple\, Spamaroni &amp\; Cheese</p>\n\n<p style="padding-top: 0px\; margin: 0px 0px 25px\; color: rgb(118\, 122\, 141)\; font-family: &quot\;Source Sans Pro&quot\;\; font-size: 16px\;">Kalua pork provided by our friends at University of Minnesota&rsquo\;s Meat Science Lab</p>\n\n<p style="padding-top: 0px\; margin: 0px 0px 25px\; color: rgb(118\, 122\, 141)\; font-family: &quot\;Source Sans Pro&quot\;\; font-size: 16px\;">A new cocktail we&rsquo\;re mixing for the Winter Luau is Sriracha Sunrise with FlameBringer Rum. Also\, $2 pint cans of The Great Sweat!</p>\n\n<p style="padding-top: 0px\; margin: 0px 0px 25px\; color: rgb(118\, 122\, 141)\; font-family: &quot\;Source Sans Pro&quot\;\; font-size: 16px\;">fire eaters and flame dancers at 6pm</p>\n\n<p style="padding-top: 0px\; margin: 0px 0px 25px\; color: rgb(118\, 122\, 141)\; font-family: &quot\;Source Sans Pro&quot\;\; font-size: 16px\;">Come get your TIKI ON!</p>\n
LOCATION:Bent Brewstillery 1744 Terrace Drive Roseville\, MN 55113
UID:e.380.191884
SEQUENCE:3
DTSTAMP:20260419T125118Z
URL:http://members.metronorthchamber.org/events/details/bent-brewstillery-inaugural-winter-luau-191884
END:VEVENT

END:VCALENDAR
