BEGIN:VCALENDAR
VERSION:2.0
PRODID:-//ChamberMaster//Event Calendar 2.0//EN
METHOD:PUBLISH
X-PUBLISHED-TTL:P3D
REFRESH-INTERVAL:P3D
CALSCALE:GREGORIAN
BEGIN:VEVENT
DTSTART:20160503T214500Z
DTEND:20160503T233000Z
X-MICROSOFT-CDO-ALLDAYEVENT:FALSE
SUMMARY:Bent Brewstillery After-Hours
DESCRIPTION:Bent Brewstillery\, the first Brewery & Distillery Fusion in Minnesota\, will be opening their doors for a private MetroNorth event. Taste their amazing product\, tour their facility\, and enjoy appetizers while celebrating this new & innovative business. Also includes a pre-networking event at 4 pm for YP's with Kris Lindahl\; included in registration.
X-ALT-DESC;FMTTYPE=text/html:<span style="font-family: &quot\;Arial&quot\;\,sans-serif\; font-size: 11pt\; mso-fareast-font-family: &quot\;Times New Roman&quot\;\; mso-ansi-language: EN-US\; mso-fareast-language: EN-US\; mso-bidi-language: AR-SA\;"><font color="#000000">Bent Brewstillery\, the first Brewery &amp\; Distillery Fusion in Minnesota\, will be opening their doors for a private MetroNorth event. Taste their amazing product\, tour their facility\, and enjoy appetizers while celebrating this new &amp\; innovative business. Also includes a pre-networking event at 4 pm for YP&#39\;s with Kris Lindahl\; included in registration.</font></span>
LOCATION:Bent Brewstillery 1744 Terrace Road Roseville\, MN
UID:e.380.167366
SEQUENCE:3
DTSTAMP:20260422T132801Z
URL:http://members.metronorthchamber.org/events/details/bent-brewstillery-after-hours-05-03-2016-167366
END:VEVENT

END:VCALENDAR
