BEGIN:VCALENDAR
VERSION:2.0
PRODID:-//ChamberMaster//Event Calendar 2.0//EN
METHOD:PUBLISH
X-PUBLISHED-TTL:P3D
REFRESH-INTERVAL:P3D
CALSCALE:GREGORIAN
BEGIN:VEVENT
DTSTART:20151022T160000Z
DTEND:20151022T180000Z
X-MICROSOFT-CDO-ALLDAYEVENT:FALSE
SUMMARY:Benefit Lunch for Impact Services
DESCRIPTION:Come out to Texas Roadhouse for a Benefit Lunch for Impact Services.\n\n\n\nThursday\, October 15\, 2015 from 11:00-1:00\n\n\n\nEnjoy pulled pork\, french fries\, applesauce and hot\, fresh rolls. Soft drinks and milk are included in the meal.\n\n\n\nFor every $20 raised during the day\, Impact Services' is able to provide one of our neighbors with Meals on Wheels' services for an entire week.
X-ALT-DESC;FMTTYPE=text/html:<span style="font-family:arial\,helvetica\,sans-serif"><span style="font-size:18px">Come out to Texas Roadhouse for a Benefit Lunch for Impact Services.</span><br />\n<br />\n<span style="font-size:14px">Thursday\, October 15\, 2015 from 11:00-1:00</span><br />\n<br />\nEnjoy pulled pork\, french fries\, applesauce and hot\, fresh rolls. Soft drinks and milk are included in the meal.<br />\n<br />\n<strong><u><em>For every $20 raised during the day\, Impact Services&#39\; is able to provide one of our neighbors with Meals on Wheels&#39\; services for an entire week.</em></u>&nbsp\;</strong></span>
LOCATION:Texas Roadhouse 2780 Main Street NW Coon Rapids\, MN 55433
UID:e.380.157244
SEQUENCE:3
DTSTAMP:20260422T234302Z
URL:http://members.metronorthchamber.org/events/details/benefit-lunch-for-impact-services-10-22-2015-157244
END:VEVENT

END:VCALENDAR
