BEGIN:VCALENDAR
VERSION:2.0
PRODID:-//ChamberMaster//Event Calendar 2.0//EN
METHOD:PUBLISH
X-PUBLISHED-TTL:P3D
REFRESH-INTERVAL:P3D
CALSCALE:GREGORIAN
BEGIN:VEVENT
DTSTART:20181118T160000Z
DTEND:20181118T164500Z
X-MICROSOFT-CDO-ALLDAYEVENT:FALSE
SUMMARY:Bend & Brew
DESCRIPTION:Join Pressed Hot Yoga & Juice at Invictus Brewing Company for Bend & Brew!\n\n\n\nFlow through a one hour Pressed Vinyasa Class and then follow your class with a pint of Invictus beer.
X-ALT-DESC;FMTTYPE=text/html:<span style="color: rgb(29\, 33\, 41)\; font-family: Helvetica\, Arial\, sans-serif\; font-size: 14px\; background-color: rgb(255\, 255\, 255)\;">Join Pressed Hot Yoga &amp\; Juice at Invictus Brewing Company for Bend &amp\; Brew!</span><br style="color: rgb(29\, 33\, 41)\; font-family: Helvetica\, Arial\, sans-serif\; font-size: 14px\; background-color: rgb(255\, 255\, 255)\;" />\n<br style="color: rgb(29\, 33\, 41)\; font-family: Helvetica\, Arial\, sans-serif\; font-size: 14px\; background-color: rgb(255\, 255\, 255)\;" />\n<span style="color: rgb(29\, 33\, 41)\; font-family: Helvetica\, Arial\, sans-serif\; font-size: 14px\; background-color: rgb(255\, 255\, 255)\;">Flow through a one hour Pressed Vinyasa Class and then follow your class with a pint of Invictus beer.</span><br style="color: rgb(29\, 33\, 41)\; font-family: Helvetica\, Arial\, sans-serif\; font-size: 14px\; background-color: rgb(255\, 255\, 255)\;" />\n<br style="color: rgb(29\, 33\, 41)\; font-family: Helvetica\, Arial\, sans-serif\; font-size: 14px\; background-color: rgb(255\, 255\, 255)\;" />\n<br style="color: rgb(29\, 33\, 41)\; font-family: Helvetica\, Arial\, sans-serif\; font-size: 14px\; background-color: rgb(255\, 255\, 255)\;" />\n<br style="color: rgb(29\, 33\, 41)\; font-family: Helvetica\, Arial\, sans-serif\; font-size: 14px\; background-color: rgb(255\, 255\, 255)\;" />\n&nbsp\;
LOCATION:INVICTUS BREWING CO. 2025 105th Ave NE Blaine\, MN 55449
UID:e.380.187469
SEQUENCE:3
DTSTAMP:20260420T120910Z
URL:http://members.metronorthchamber.org/events/details/bend-brew-187469
END:VEVENT

END:VCALENDAR
